BEGIN:VCALENDAR
VERSION:2.0
PRODID:-//pretix//pretix.eu//
BEGIN:VTIMEZONE
TZID:Europe/Berlin
BEGIN:STANDARD
DTSTART:20001029T040000
RRULE:FREQ=YEARLY;BYDAY=-1SU;BYMONTH=10
TZNAME:CET
TZOFFSETFROM:+0200
TZOFFSETTO:+0100
END:STANDARD
BEGIN:DAYLIGHT
DTSTART:20000326T030000
RRULE:FREQ=YEARLY;BYDAY=-1SU;BYMONTH=3
TZNAME:CEST
TZOFFSETFROM:+0100
TZOFFSETTO:+0200
END:DAYLIGHT
END:VTIMEZONE
BEGIN:VEVENT
UID:pretix-sustainable-conference-community-0@ticket.sustainable-conference
 .de
DTSTART;TZID=Europe/Berlin:20220708T200000
DTEND;TZID=Europe/Berlin:20220708T210000
DESCRIPTION:Tickets: https://ticket.sustainable-conference.de/community/\nV
 eranstalter: SustaiNable Conference
DTSTAMP:20260420T081354Z
LOCATION:EVENTPILOTEN GmbH\, Weinmarkt 4\, 90403 Nürnberg
SUMMARY:SustaiNable Night
END:VEVENT
END:VCALENDAR
